BEGIN:VCALENDAR
VERSION:2.0
PRODID:-//Tukios.com/
BEGIN:VEVENT
UID:3a58d4bd-c46c-4f09-a427-eb94d61c91f3@www.nealfuneralhome.com
DTSTAMP:20260426T002721Z
DTSTART:20260429T200000Z
DTEND:20260429T233000Z
SUMMARY:Visitation
DESCRIPTION:
URL:https://www.nealfuneralhome.com/obituaries/brian-haught
LOCATION:William G. Neal Funeral Home 925 Allison Avenue  Washington PA 
	15301
GEO:40.1815969;-80.2623271
END:VEVENT
END:VCALENDAR