BEGIN:VCALENDAR
VERSION:2.0
PRODID:-//Tukios.com/
BEGIN:VEVENT
UID:4fbbd6f8-510c-49c9-ae64-43327d95eef2@www.nealfuneralhome.com
DTSTAMP:20260425T005926Z
DTSTART:20260429T140000Z
DTEND:20260429T150000Z
SUMMARY:Mass
DESCRIPTION:
URL:https://www.nealfuneralhome.com/obituaries/thomas-shade
LOCATION:Immaculate Conception Church, Street, James Parish 119 West 
	Chestnut Street  Washington PA 15301
GEO:40.1724107;-80.2498179
END:VEVENT
END:VCALENDAR